BEGIN:VCALENDAR
VERSION:2.0
PRODID:-//Ruffy - ECPv4.6.20.1//NONSGML v1.0//EN
CALSCALE:GREGORIAN
METHOD:PUBLISH
X-WR-CALNAME:Ruffy
X-ORIGINAL-URL:http://ruffycommunity.com.au/site
X-WR-CALDESC:Events for Ruffy
BEGIN:VEVENT
DTSTART;TZID=UTC+0:20170909T200000
DTEND;TZID=UTC+0:20170909T223000
DTSTAMP:20190227T120653
CREATED:20170130T035541Z
LAST-MODIFIED:20170130T035552Z
UID:853-1504987200-1504996200@ruffycommunity.com.au
SUMMARY:RuffArtZ: I Viaggiatori
DESCRIPTION:Italian film director Angelo Drovetti’s 1924 silent film Dall’Italia All’Australia (From Italy to Australia) screened with a live music accompaniment provided by 4 piece band “I Viaggiatori” (The Voyagers). The work is regarded by many as the most comprehensive film ever made of a migrant voyage. It chronicles the voyage of the passenger steam ship Regina d’Italia (Queen of Italy) during an epic 8\,000-nautical-mile\, seven-week world odyssey from Genoa to Australia\, by way of Egypt and Sri Lanka. The film features fascinating footage of each port and city including Perth\, Adelaide\, Melbourne\, Sydney and Brisbane.  “I Viaggiatori”\, with acclaimed musicians including Kavisha Mazzella\, brings the film to life\, with a multitude of instruments including guitar\, accordion\, bouzouki\, mandolin and sax. \n \n
URL:http://ruffycommunity.com.au/site/community-calendar/ruffartz-i-viaggiatori/
LOCATION:Nolans Road\, Ruffy\, Ruffy\, 3666\, Australia
CATEGORIES:RuffArtZ
ORGANIZER;CN="Kym%20%28ticket%20sales%20only%20please%29":MAILTO:ruffartztickets@gmail.com
END:VEVENT
END:VCALENDAR