BEGIN:VCALENDAR
VERSION:2.0
PRODID:-//Ruffy - ECPv4.6.20.1//NONSGML v1.0//EN
CALSCALE:GREGORIAN
METHOD:PUBLISH
X-WR-CALNAME:Ruffy
X-ORIGINAL-URL:http://ruffycommunity.com.au/site
X-WR-CALDESC:Events for Ruffy
BEGIN:VEVENT
DTSTART;TZID=UTC+0:20170722T180000
DTEND;TZID=UTC+0:20170722T220000
DTSTAMP:20190227T120538
CREATED:20170628T120004Z
LAST-MODIFIED:20170628T120014Z
UID:890-1500746400-1500760800@ruffycommunity.com.au
SUMMARY:Christmas in July + Trivia
DESCRIPTION: \n
URL:http://ruffycommunity.com.au/site/community-calendar/christmas-in-july-trivia/
LOCATION:Creighton's Creek Road\, Creighton's Creek\, 3666
END:VEVENT
END:VCALENDAR