BEGIN:VCALENDAR
VERSION:2.0
PRODID:-//Ruffy - ECPv4.6.20.1//NONSGML v1.0//EN
CALSCALE:GREGORIAN
METHOD:PUBLISH
X-WR-CALNAME:Ruffy
X-ORIGINAL-URL:http://ruffycommunity.com.au/site
X-WR-CALDESC:Events for Ruffy
BEGIN:VEVENT
DTSTART;TZID=UTC+0:20171015T090000
DTEND;TZID=UTC+0:20171015T170000
DTSTAMP:20190227T120611
CREATED:20170909T043903Z
LAST-MODIFIED:20170909T043903Z
UID:902-1508058000-1508086800@ruffycommunity.com.au
SUMMARY:Car Boot Sale
DESCRIPTION:Ruffy Car Boot Sale\nunder the fabulous Oak trees at Ruffy Recreational Reserve\, Noye Lane Ruffy \nthe sausages will be sizzling all day from when gates open at 9am  \nYou are invited to an official opening of the upgraded kitchen \nin the cricket pavilion\, at 2pm followed by a complimentary afternoon tea \n(there are some fabulous cooks in Ruffy\, don’t miss out!) \nHave some things to sell?  Site bookings can be made with Marj\, $10 per site.\n
URL:http://ruffycommunity.com.au/site/community-calendar/car-boot-sale-3/
LOCATION:"Maygar Park"\, Noye Lane\, Ruffy\, Victoria\, 3666\, Australia
ORGANIZER;CN="Marj%20Leigh":MAILTO:ruffycommunity@gmail.com
END:VEVENT
END:VCALENDAR